BEGIN:VCALENDAR
VERSION:2.0
PRODID:-//eventon.com NONSGML v1.0//EN
CALSCALE:GREGORIAN
METHOD:PUBLISH
BEGIN:VEVENT
UID:69e88e6a7f630
DTSTAMP:20260422T090130Z
DTSTART:20250821T180000Z
DTEND:20250821T215900Z
LOCATION:Zürich
SUMMARY:Cure
DESCRIPTION:Cure\nhttps://kolektiv-igralke.hr/events/cure-3/
URL:https://kolektiv-igralke.hr/events/cure-3/
END:VEVENT
END:VCALENDAR