BEGIN:VCALENDAR
VERSION:2.0
PRODID:-//eventon.com NONSGML v1.0//EN
CALSCALE:GREGORIAN
METHOD:PUBLISH
BEGIN:VEVENT
UID:69e8db35bd8cc
DTSTAMP:20260422T142909Z
DTSTART:20260514T180000Z
DTEND:20260514T215900Z
LOCATION:Sarajevo
SUMMARY:MAJKE
DESCRIPTION:MAJKE\nhttps://kolektiv-igralke.hr/events/majke-13/
URL:https://kolektiv-igralke.hr/events/majke-13/
END:VEVENT
END:VCALENDAR