BEGIN:VCALENDAR
VERSION:2.0
PRODID:-//eventon.com NONSGML v1.0//EN
CALSCALE:GREGORIAN
METHOD:PUBLISH
BEGIN:VEVENT
UID:69e73eb172874
DTSTAMP:20260421T090905Z
DTSTART:20260329T180000Z
DTEND:20260329T215900Z
LOCATION:Zagreb
SUMMARY:MAJKE
DESCRIPTION:MAJKE\nhttps://kolektiv-igralke.hr/events/majke-10/
URL:https://kolektiv-igralke.hr/events/majke-10/
END:VEVENT
END:VCALENDAR