BEGIN:VCALENDAR
VERSION:2.0
PRODID:-//eventon.com NONSGML v1.0//EN
CALSCALE:GREGORIAN
METHOD:PUBLISH
BEGIN:VEVENT
UID:69e637726bbd5
DTSTAMP:20260420T142554Z
DTSTART:20260218T100000Z
DTEND:20260218T225900Z
LOCATION:Čakovec
SUMMARY:Cure
DESCRIPTION:Cure\nhttps://kolektiv-igralke.hr/events/cure-12/
URL:https://kolektiv-igralke.hr/events/cure-12/
END:VEVENT
END:VCALENDAR